BEGIN:VCALENDAR
VERSION:2.0
PRODID:-//AIA Richmond - ECPv6.15.20//NONSGML v1.0//EN
CALSCALE:GREGORIAN
METHOD:PUBLISH
X-ORIGINAL-URL:https://aiarva.org
X-WR-CALDESC:Events for AIA Richmond
REFRESH-INTERVAL;VALUE=DURATION:PT1H
X-Robots-Tag:noindex
X-PUBLISHED-TTL:PT1H
BEGIN:VTIMEZONE
TZID:America/New_York
BEGIN:DAYLIGHT
TZOFFSETFROM:-0500
TZOFFSETTO:-0400
TZNAME:EDT
DTSTART:20190310T070000
END:DAYLIGHT
BEGIN:STANDARD
TZOFFSETFROM:-0400
TZOFFSETTO:-0500
TZNAME:EST
DTSTART:20191103T060000
END:STANDARD
BEGIN:DAYLIGHT
TZOFFSETFROM:-0500
TZOFFSETTO:-0400
TZNAME:EDT
DTSTART:20200308T070000
END:DAYLIGHT
BEGIN:STANDARD
TZOFFSETFROM:-0400
TZOFFSETTO:-0500
TZNAME:EST
DTSTART:20201101T060000
END:STANDARD
BEGIN:DAYLIGHT
TZOFFSETFROM:-0500
TZOFFSETTO:-0400
TZNAME:EDT
DTSTART:20210314T070000
END:DAYLIGHT
BEGIN:STANDARD
TZOFFSETFROM:-0400
TZOFFSETTO:-0500
TZNAME:EST
DTSTART:20211107T060000
END:STANDARD
BEGIN:DAYLIGHT
TZOFFSETFROM:-0500
TZOFFSETTO:-0400
TZNAME:EDT
DTSTART:20220313T070000
END:DAYLIGHT
BEGIN:STANDARD
TZOFFSETFROM:-0400
TZOFFSETTO:-0500
TZNAME:EST
DTSTART:20221106T060000
END:STANDARD
END:VTIMEZONE
BEGIN:VEVENT
DTSTART;TZID=America/New_York:20210216T170000
DTEND;TZID=America/New_York:20210216T183000
DTSTAMP:20260421T231532
CREATED:20210204T152617Z
LAST-MODIFIED:20210204T152832Z
UID:1939-1613494800-1613500200@aiarva.org
SUMMARY:YAF Richmond ARE Seminar | NCARB Presentation and Panel Discussion
DESCRIPTION:Join YAF RVA in welcoming Michelle Cohn\, Allison Baker\, and Mert Kansu for a Presentation and Panel Discussion about NCARB’s Architect Registration Exam (ARE) and Online Proctoring Exam option. \nMichelle Cohn\, Assistant Vice President of Examination\, will kick-off the event with a presentation on the ARE\, including online proctored delivery\, new tools and features\, and testing strategies. Allison Baker (who recently completed the ARE) and Mert Kansu (current ARE candidate) will join Michelle after the presentation to field questions from the audience regarding the newly proctored exam\, test taking tips\, personal stories\, and inside information on the ARE 5.0. \nMembers and ARE candidates should join us for this exciting opportunity and are encouraged to bring questions for our Panel Discussion. \nStick around for a chance to win $50 to a local RVA restaurant! \nRegister online.
URL:https://aiarva.org/event/yaf-richmond-are-seminar-ncarb-presentation-and-panel-discussion/
LOCATION:virtual
CATEGORIES:Education
END:VEVENT
BEGIN:VEVENT
DTSTART;TZID=America/New_York:20210216T170000
DTEND;TZID=America/New_York:20210216T183000
DTSTAMP:20260421T231532
CREATED:20210203T230130Z
LAST-MODIFIED:20240915T145413Z
UID:1937-1613494800-1613500200@aiarva.org
SUMMARY:CANstruction Awards Ceremony
DESCRIPTION:Join AIA Richmond for a celebration of the 22nd Annual CANstruction Design and Build Competition!\n\nLearn more about the program and see how the teams responded to the theme “Around the World!”\n\nRegister online.\n\nThe CANstruction program benefits FeedMore of Richmond.
URL:https://aiarva.org/event/canstruction-awards-ceremony/
LOCATION:virtual
CATEGORIES:Events
END:VEVENT
BEGIN:VEVENT
DTSTART;TZID=America/New_York:20210216T080000
DTEND;TZID=America/New_York:20210219T160000
DTSTAMP:20260421T231532
CREATED:20201217T170150Z
LAST-MODIFIED:20201217T170150Z
UID:1778-1613462400-1613750400@aiarva.org
SUMMARY:AIA Grassroots 2021
DESCRIPTION:This year’s theme—Bring It Home—will address critical issues facing the architecture profession\, including COVID-19\, climate change\, and racial equity. You’ll learn best practices and strategies that you’ll bring home to implement successfully in your chapter\, firm\, and community. \nThis year’s event is virtual. It’s packed with keynotes\, breakout sessions\, workshops\, and networking. You’ll also have the opportunity to advocate for AIA’s legislative agenda with Members of Congress.
URL:https://aiarva.org/event/aia-grassroots-2021/
LOCATION:virtual
END:VEVENT
BEGIN:VEVENT
DTSTART;TZID=America/New_York:20210211T110000
DTEND;TZID=America/New_York:20210211T120000
DTSTAMP:20260421T231532
CREATED:20210115T225617Z
LAST-MODIFIED:20210120T160426Z
UID:1848-1613041200-1613044800@aiarva.org
SUMMARY:February Lunch and Learn: Adaptive Re-use of Existing Buildings
DESCRIPTION:This course provides an introduction to the process of evaluating existing buildings and designing them for a new use other than the original design or construction intent.  This program will explore environmental\, architectural\, site\, structural and building system aspects of any adaptive reuse building project.  It will also provide guidance for the initial stages of design. \nSubmitted for approval to offer 1.0 AIA LU | HSW \nPresented by David W. Spriggs\, PE\nMr. Spriggs is currently a Principal at Draper Aden Associates\, working generally out of their Cary\, NC and Richmond\, VA offices. He has over 30 years of experience in analysis and design of structural systems for commercial\, residential\, industrial and institutional buildings\, working with multi-discipline teams. His work has often involved alterations and additions to existing buildings as well as new construction. Specific experience includes: Development of laser scanning and BIM protocols for existing building investigations; design of structural steel\, masonry\, reinforced concrete\, prestressed concrete\, structural wood and cold-formed metal systems; and analysis and design of retaining walls and foundation systems. Mr. Spriggs is a licensed Professional Engineer in VA\, NC\, SC\, FL AL\, WV\, MD\, DC\, DE and PA.
URL:https://aiarva.org/event/february-lunch-and-learn/
LOCATION:virtual
CATEGORIES:Education
END:VEVENT
BEGIN:VEVENT
DTSTART;TZID=America/New_York:20210127T163000
DTEND;TZID=America/New_York:20210127T173000
DTSTAMP:20260421T231532
CREATED:20210125T145743Z
LAST-MODIFIED:20210125T145743Z
UID:1862-1611765000-1611768600@aiarva.org
SUMMARY:Demystifying Richmond Women in Design
DESCRIPTION:Ever wondered what Richmond Women and Design is about? Is there’s a membership fee? Who can participate? What kind of designs are we into? Come join us for our first (virtual) event of the year and be a part of the discussion for what Richmond Women in Design is\, or could be for our community. Share your input on events you’d like to see happen this year! \nMeet online: https://meet.google.com/nyc-gzgn-hvq \n601-935-4138 \nPIN: ‪247 500 905# \n 
URL:https://aiarva.org/event/demystifying-richmond-women-in-design/
LOCATION:virtual
CATEGORIES:Events
END:VEVENT
BEGIN:VEVENT
DTSTART;TZID=America/New_York:20201217T110000
DTEND;TZID=America/New_York:20201217T120000
DTSTAMP:20260421T231532
CREATED:20201130T152216Z
LAST-MODIFIED:20201130T152443Z
UID:1746-1608202800-1608206400@aiarva.org
SUMMARY:Egyptian Places: An Illustrated Travelogue
DESCRIPTION:Join us for an overview of Richmond architect Henry David Ayon’s recently-released book Egyptian Places. The monograph focuses on 12 sacred sites of ancient Egypt whose individual characteristics are described by written architectural commentary and illustrated by over 200 hand rendered drawings and graphic studies. \nThe volume’s chapters are organized by individual sites and the drawings attempt to convey the unique architectural features and the mythic ethos of each place through visually rich\, detailed drawings that convey the sense of these massive edifices set in a stark desert terrain. \nCentral to the book’s evocation of the architectural distinction of the buildings is the hand rendering technique utilizing sepia pencil and markers to create a simulation of the colors and chroma of the landscape. Numerous drawings were scanned after the initial pencil sketch and manipulated in Photoshop to apply sepia coloration in various percentages of density\, thereby illuminating different aspects of a particular scene or artifact. \nEarn 1.0 AIA Learning Unit \nRegister below:
URL:https://aiarva.org/event/egyptian-places-an-illustrated-travelogue/
LOCATION:virtual
CATEGORIES:Education
END:VEVENT
BEGIN:VEVENT
DTSTART;TZID=America/New_York:20201216T163000
DTEND;TZID=America/New_York:20201216T180000
DTSTAMP:20260421T231532
CREATED:20201130T150051Z
LAST-MODIFIED:20201130T150051Z
UID:1744-1608136200-1608141600@aiarva.org
SUMMARY:RWiD: Holiday Happy Hour & Give Away
DESCRIPTION:Happy Holidays from Richmond Women in Design!\nYour presents is requested! Join us  for a virtual mistletoast\, where we can gather and celebrate the holiday season from a safe social distance. \nBut wait! There’s myrrh… this year we are also offering free RWiD holiday swag bags! Yule be sorry if you miss it! \nJoin online. \n \nThe weblink fine print \nhttps://global.gotomeeting.com/join/909820509 \nYou can also dial in using your phone.\n(For supported devices\, tap a one-touch number below to join instantly.)\nUnited States: +1 (312) 757-3121\n– One-touch: tel:+13127573121\,\,909820509#\nAccess Code: 909-820-509 \nJoin from a video-conferencing room or system.\nDial in or type: 67.217.95.2 or inroomlink.goto.com\nMeeting ID: 909 820 509\nOr dial directly: 909820509@67.217.95.2 or 67.217.95.2##909820509
URL:https://aiarva.org/event/rwid-holiday-happy-hour-give-away/
LOCATION:virtual
CATEGORIES:Events
END:VEVENT
BEGIN:VEVENT
DTSTART;TZID=America/New_York:20201119T163000
DTEND;TZID=America/New_York:20201119T180000
DTSTAMP:20260421T231532
CREATED:20201015T151853Z
LAST-MODIFIED:20201020T172956Z
UID:1685-1605803400-1605808800@aiarva.org
SUMMARY:Annual Meeting of the Membership
DESCRIPTION:Join your colleagues to elect the Board of Directors and conduct the business of your professional association. Engage in a conversation about how the AIA can best serve you and your firms.  Following the meeting\, we’ll enjoy some social time!
URL:https://aiarva.org/event/annual-meeting-of-the-membership/
LOCATION:virtual
CATEGORIES:Events
END:VEVENT
BEGIN:VEVENT
DTSTART;TZID=America/New_York:20201118T163000
DTEND;TZID=America/New_York:20201118T173000
DTSTAMP:20260421T231532
CREATED:20201111T152227Z
LAST-MODIFIED:20201118T172552Z
UID:1704-1605717000-1605720600@aiarva.org
SUMMARY:RWiD: Career Transitions Panel Discussion
DESCRIPTION:Have you ever considered shifting your career path? Join us for a discussion with our panelists as we talk about how and when to make a change\, what worked and what didn’t\, and the lessons learned along the way. \nRegister online.
URL:https://aiarva.org/event/rwid-career-transitions-panel-discussion/
LOCATION:virtual
CATEGORIES:Education
END:VEVENT
BEGIN:VEVENT
DTSTART;TZID=America/New_York:20201027T160000
DTEND;TZID=America/New_York:20201027T170000
DTSTAMP:20260421T231532
CREATED:20201020T182540Z
LAST-MODIFIED:20201020T182540Z
UID:1700-1603814400-1603818000@aiarva.org
SUMMARY:RWiD: VCU Health AOP Virtual Sidewalk Tour
DESCRIPTION:The new Adult Outpatient Pavilion’s (AOP) project vision consolidates outpatient adult specialty services on the academic medical center campus into one multidisciplinary facility for leading clinical care. The AOP will consolidate the Massey Cancer Center\, Multi-disciplinary Shared Clinics\, and the VCU School of Dentistry Clinics into a multi-faceted facility\, designed to achieve LEED Silver. The 615\,000 SF Tower is integrated with a parking structure for 1\,000+ vehicles. The 17-story predominately glass tower will be highly visible in the downtown skyline. The ﬂexible and adaptable design maximizes views and natural daylight on all ﬂoors while also promoting a multidisciplinary\, and welcoming environment for family-centered care and collaboration. \nWHERE:   LINK TO WEBEX \nNo registration required.
URL:https://aiarva.org/event/rwid-vcu-health-aop-virtual-sidewalk-tour/
LOCATION:virtual
CATEGORIES:Education
END:VEVENT
BEGIN:VEVENT
DTSTART;TZID=America/New_York:20201022T110000
DTEND;TZID=America/New_York:20201022T123000
DTSTAMP:20260421T231532
CREATED:20201015T153148Z
LAST-MODIFIED:20201015T153148Z
UID:1689-1603364400-1603369800@aiarva.org
SUMMARY:RWiD: Lunch Discussion with Donna Dunay\, FAIA | Evidence of a Treasure
DESCRIPTION:Join Richmond Women in Design for our annual social with WiD groups from across Virginia. This year’s featured speaker is Donna Dunay\, FAIA. \nEvidence of a Treasure:\nFor the Future – Creating Constellations\, Celebrations\, and the Tracery of a Network \nCome and find out how you can be a part of the ongoing work of the International Archive of Women in Architecture (IAWA) to create a beautiful mosaic of women’s involvement in architecture with three glimpses into the IAWA constructing an invitation to you. \nEarn 1.5 AIA LU \nRegister online. \nThis event is free when you register using the Social Events option in Foresight 2020. You can also add it to your agenda with any ArchEx or Design Forum ticket. \n  \nVirginia Women in Design is using this platform to raise funds for Richmond’s ACE Mentorship Program. Please join us in making a donation today!
URL:https://aiarva.org/event/rwid-lunch-discussion-with-donna-dunay-faia-evidence-of-a-treasure/
LOCATION:virtual
CATEGORIES:Education
END:VEVENT
BEGIN:VEVENT
DTSTART;TZID=America/New_York:20200530T133000
DTEND;TZID=America/New_York:20200530T143000
DTSTAMP:20260421T231532
CREATED:20200514T203802Z
LAST-MODIFIED:20200515T005306Z
UID:869-1590845400-1590849000@aiarva.org
SUMMARY:YAF: Storytelling for Community
DESCRIPTION:Thursday\, May 7\n5:30-6:30 p.m. \nYAF RVA introduces a virtual storytelling series to inspire one another and support our local businesses. Three emerging professionals will tell their unique stories around architecture while highlighting what started and currently shapes their careers today. \nReinforcing the diverse paths an architect’s career can take\, we’ll embark on a Pecha Kucha-style journey with some of Richmond’s exciting young architects. \nThree gift certificates to some of our favorite Richmond restaurants will be given away to support our local businesses: Broken Tulip\, Stella’s\, and The Roosevelt. \nRegister online.
URL:https://aiarva.org/event/yaf-storytelling-for-community/
CATEGORIES:Featured
END:VEVENT
BEGIN:VEVENT
DTSTART;VALUE=DATE:20200405
DTEND;VALUE=DATE:20200407
DTSTAMP:20260421T231532
CREATED:20200514T203457Z
LAST-MODIFIED:20200514T203457Z
UID:866-1586116800-1586203199@aiarva.org
SUMMARY:CANstruction Team Registration
DESCRIPTION:Be a part of the 22nd annual design and build competition to benefit FeedMore of Richmond! This year’s theme is Around the World. Learn more. \nRegister your team online or by mail.
URL:https://aiarva.org/event/canstruction-team-registration/
LOCATION:FeedMore of Richmond
END:VEVENT
END:VCALENDAR